BEGIN:VCALENDAR
VERSION:2.0
PRODID:-//eventon.com NONSGML v1.0//EN
CALSCALE:GREGORIAN
METHOD:PUBLISH
BEGIN:VEVENT
UID:69e788271952e
DTSTAMP:20260421T142231Z
DTSTART:20230514T100000Z
DTEND:20230514T110000Z
LOCATION:
SUMMARY:Intro To The DC & Virginia Festival
DESCRIPTION:Click HERE to Register For The Zoom When: Sunday\,  May 14 • 
 1:00PM EDT After registering\,  you will receive a confirmation email conta
 ining information about joining the meeting.\nhttps://ouraddi.org/events/in
 tro-to-the-dc-virginia-festival/
URL:https://ouraddi.org/events/intro-to-the-dc-virginia-festival/
END:VEVENT
END:VCALENDAR